BEGIN:VCALENDAR
VERSION:2.0
PRODID:-//Ferndown U3A - ECPv6.15.16.1//NONSGML v1.0//EN
CALSCALE:GREGORIAN
METHOD:PUBLISH
X-WR-CALNAME:Ferndown U3A
X-ORIGINAL-URL:https://ferndownu3a.co.uk
X-WR-CALDESC:Events for Ferndown U3A
REFRESH-INTERVAL;VALUE=DURATION:PT1H
X-Robots-Tag:noindex
X-PUBLISHED-TTL:PT1H
BEGIN:VTIMEZONE
TZID:Europe/London
BEGIN:DAYLIGHT
TZOFFSETFROM:+0000
TZOFFSETTO:+0100
TZNAME:BST
DTSTART:20240331T010000
END:DAYLIGHT
BEGIN:STANDARD
TZOFFSETFROM:+0100
TZOFFSETTO:+0000
TZNAME:GMT
DTSTART:20241027T010000
END:STANDARD
BEGIN:DAYLIGHT
TZOFFSETFROM:+0000
TZOFFSETTO:+0100
TZNAME:BST
DTSTART:20250330T010000
END:DAYLIGHT
BEGIN:STANDARD
TZOFFSETFROM:+0100
TZOFFSETTO:+0000
TZNAME:GMT
DTSTART:20251026T010000
END:STANDARD
BEGIN:DAYLIGHT
TZOFFSETFROM:+0000
TZOFFSETTO:+0100
TZNAME:BST
DTSTART:20260329T010000
END:DAYLIGHT
BEGIN:STANDARD
TZOFFSETFROM:+0100
TZOFFSETTO:+0000
TZNAME:GMT
DTSTART:20261025T010000
END:STANDARD
END:VTIMEZONE
BEGIN:VEVENT
DTSTART;VALUE=DATE:20251121
DTEND;VALUE=DATE:20251122
DTSTAMP:20260421T150327
CREATED:20250729T185113Z
LAST-MODIFIED:20250729T191357Z
UID:15786-1763683200-1763769599@ferndownu3a.co.uk
SUMMARY:WINCHESTER CHRISTMAS MARKET - COACH TRIP
DESCRIPTION:We will travel to Winchester by coach and spend the day browsing the markets
URL:https://ferndownu3a.co.uk/calendar/winchester-christmas-market-coach-trip/
LOCATION:WINCHESTER\, Winchester\, SO23 0PJ\, United Kingdom
CATEGORIES:VISITS
END:VEVENT
END:VCALENDAR