BEGIN:VCALENDAR
VERSION:2.0
PRODID:-//Ferndown U3A - ECPv6.15.16.1//NONSGML v1.0//EN
CALSCALE:GREGORIAN
METHOD:PUBLISH
X-WR-CALNAME:Ferndown U3A
X-ORIGINAL-URL:https://ferndownu3a.co.uk
X-WR-CALDESC:Events for Ferndown U3A
REFRESH-INTERVAL;VALUE=DURATION:PT1H
X-Robots-Tag:noindex
X-PUBLISHED-TTL:PT1H
BEGIN:VTIMEZONE
TZID:Europe/London
BEGIN:DAYLIGHT
TZOFFSETFROM:+0000
TZOFFSETTO:+0100
TZNAME:BST
DTSTART:20250330T010000
END:DAYLIGHT
BEGIN:STANDARD
TZOFFSETFROM:+0100
TZOFFSETTO:+0000
TZNAME:GMT
DTSTART:20251026T010000
END:STANDARD
BEGIN:DAYLIGHT
TZOFFSETFROM:+0000
TZOFFSETTO:+0100
TZNAME:BST
DTSTART:20260329T010000
END:DAYLIGHT
BEGIN:STANDARD
TZOFFSETFROM:+0100
TZOFFSETTO:+0000
TZNAME:GMT
DTSTART:20261025T010000
END:STANDARD
BEGIN:DAYLIGHT
TZOFFSETFROM:+0000
TZOFFSETTO:+0100
TZNAME:BST
DTSTART:20270328T010000
END:DAYLIGHT
BEGIN:STANDARD
TZOFFSETFROM:+0100
TZOFFSETTO:+0000
TZNAME:GMT
DTSTART:20271031T010000
END:STANDARD
END:VTIMEZONE
BEGIN:VEVENT
DTSTART;TZID=Europe/London:20260522T100000
DTEND;TZID=Europe/London:20260522T123000
DTSTAMP:20260421T190140
CREATED:20250801T152808Z
LAST-MODIFIED:20250801T152808Z
UID:15849-1779444000-1779453000@ferndownu3a.co.uk
SUMMARY:OPEN DAY 2026
DESCRIPTION:Come along and enjoy a coffee\, meet group leaders and learn what we have planned for 2026 – 2027
URL:https://ferndownu3a.co.uk/calendar/open-day-2026/
LOCATION:Barrington Centre and Theatre\, The Barrington Centre and Theatre\, Ferndown\, Dorset\, BH22 9JP\, United Kingdom
CATEGORIES:EVENTS
END:VEVENT
BEGIN:VEVENT
DTSTART;TZID=Europe/London:20260605T100000
DTEND;TZID=Europe/London:20260605T113000
DTSTAMP:20260421T190140
CREATED:20250801T153226Z
LAST-MODIFIED:20250922T103713Z
UID:15851-1780653600-1780659000@ferndownu3a.co.uk
SUMMARY:IAM RoadSmart
DESCRIPTION:A presentation for institute of advanced motorists (IAM).\n 
URL:https://ferndownu3a.co.uk/calendar/the-big-summer-read-summer-get-together/
LOCATION:King George V Regency Room\, Peter Grant Way\, Ferndown\, BH22 9EN\, United Kingdom
CATEGORIES:IN HOUSE FRIDAY
END:VEVENT
BEGIN:VEVENT
DTSTART;TZID=Europe/London:20260701T180000
DTEND;TZID=Europe/London:20260701T210000
DTSTAMP:20260421T190140
CREATED:20250801T154628Z
LAST-MODIFIED:20260118T170721Z
UID:15860-1782928800-1782939600@ferndownu3a.co.uk
SUMMARY:LYBURN CHEESE FARM EVENING OUTING
DESCRIPTION:LYBURN CHEESE FARM\nWe will tour the farm\, see how they make their famous cheese and enjoy a ploughman’s supper. \nDetails closer to the time
URL:https://ferndownu3a.co.uk/calendar/lyburn-cheese-farm-evening-outing/
LOCATION:Lyburn Cheese Farm\, SP5 2DN\, United Kingdom
CATEGORIES:VISITS
END:VEVENT
BEGIN:VEVENT
DTSTART;TZID=Europe/London:20260703T100000
DTEND;TZID=Europe/London:20260703T233000
DTSTAMP:20260421T190140
CREATED:20250801T153408Z
LAST-MODIFIED:20251007T144225Z
UID:15853-1783072800-1783121400@ferndownu3a.co.uk
SUMMARY:EMERGENCY PLANNING -
DESCRIPTION:Speaker: Alistair Sinclair  – During Alistair ‘s career  he spent time in the Military followed by  a number of years as an emergency planner.  Now retired. he trains up and coming emergency planners. \n  \n  \n  \n  \n  \n  \n  \n  \n  \n  \n  \n  \n  \n  \n 
URL:https://ferndownu3a.co.uk/calendar/summer-get-together/
LOCATION:King George V Regency Room\, Peter Grant Way\, Ferndown\, BH22 9EN\, United Kingdom
CATEGORIES:IN HOUSE FRIDAY
END:VEVENT
BEGIN:VEVENT
DTSTART;TZID=Europe/London:20260807T140000
DTEND;TZID=Europe/London:20260807T160000
DTSTAMP:20260421T190140
CREATED:20250801T153608Z
LAST-MODIFIED:20260117T143315Z
UID:15855-1786111200-1786118400@ferndownu3a.co.uk
SUMMARY:SUMMER GET TOGETHER
DESCRIPTION:THE BIG PICNIC AND MORE ! \nKGV – 2-4 PM
URL:https://ferndownu3a.co.uk/calendar/summer-get-together-2/
LOCATION:King George V Regency Room\, Peter Grant Way\, Ferndown\, BH22 9EN\, United Kingdom
CATEGORIES:IN HOUSE FRIDAY
END:VEVENT
BEGIN:VEVENT
DTSTART;VALUE=DATE:20260819
DTEND;VALUE=DATE:20260820
DTSTAMP:20260421T190140
CREATED:20250801T154105Z
LAST-MODIFIED:20250801T154105Z
UID:15857-1787097600-1787183999@ferndownu3a.co.uk
SUMMARY:WATTS GALLERY & ARTISTS VILLAGE COACH TRIP
DESCRIPTION:WATTS GALLERY\nFull details closer to the date
URL:https://ferndownu3a.co.uk/calendar/watts-gallery-artists-village-coach-trip/
LOCATION:Watts Gallery & Artist Village\, GU3 1DQ\, United Kingdom
CATEGORIES:VISITS
END:VEVENT
END:VCALENDAR